BEGIN:VCALENDAR
VERSION:2.0
PRODID:-//ChamberMaster//Event Calendar 2.0//EN
METHOD:PUBLISH
X-PUBLISHED-TTL:P3D
REFRESH-INTERVAL:P3D
CALSCALE:GREGORIAN
BEGIN:VEVENT
DTSTART;VALUE=DATE:20100501
DTEND;VALUE=DATE:20100502
TRANSP:TRANSPARENT
X-MICROSOFT-CDO-ALLDAYEVENT:TRUE
SUMMARY:Gage County Historical Society Appraisal Dinner 5/1/10
DESCRIPTION:Annual Gage County Historical SocietyAppraisal Dinner Saturday\, May 1\, 2010 Advance tickets only\, $25 donation per person. For reservations or location information\, call 228-1679.
X-ALT-DESC;FMTTYPE=text/html:<div>Annual Gage County Historical Society</div><div>Appraisal Dinner</div><div>&nbsp\;</div><div>Saturday\, May 1\, 2010</div><div>&nbsp\;</div><div>Advance tickets only\, $25 donation per person.</div><div>&nbsp\;</div><div>For reservations or location information\, call 228-1679.</div>
LOCATION:
UID:e.41.1967
SEQUENCE:3
DTSTAMP:20260425T123006Z
URL:https://business.beatricechamber.com/events/details/gage-county-historical-society-appraisal-dinner-5-1-10-05-01-2010-1967
END:VEVENT

END:VCALENDAR
