BEGIN:VCALENDAR
VERSION:2.0
PRODID:-//ChamberMaster//Event Calendar 2.0//EN
METHOD:PUBLISH
X-PUBLISHED-TTL:P3D
REFRESH-INTERVAL:P3D
CALSCALE:GREGORIAN
BEGIN:VEVENT
DTSTART;VALUE=DATE:20120715
DTEND;VALUE=DATE:20120716
TRANSP:TRANSPARENT
X-MICROSOFT-CDO-ALLDAYEVENT:TRUE
SUMMARY:Gage County Historical Society Band Performance
DESCRIPTION:Gage County Historical Society Band\n\n	 \n\n	Three more concerts will be held this summer all at 7:00 pm on Sunday evenings at Chautauqua Park Tabernacle.\n\n	 \n\n	July 1: Theme will be all American to put you in the spirit of the 4th of July.\n\n	 \n\n	July 15: Assortment of Broadway musicals\n\n	 \n\n	July 19: Theme will be Celebrating Our Heritage
X-ALT-DESC;FMTTYPE=text/html:<p align="center" style="text-align: center\; margin: 0in 0in 0pt">\n	<span style="color: #000000"><b><span style="font-family: 'Arial'\, 'sans-serif'\; font-size: 11pt"><font face="Arial">&nbsp\;Gage County Historical Society&nbsp\;Band</font></span></b></span><b><span style="font-family: 'Arial'\, 'sans-serif'\; font-size: 11pt"><font face="Arial"><o:p></o:p></font></span></b></p>\n<p align="center" style="text-align: center\; margin: 0in 0in 0pt">\n	<span style="color: #000000"><b><span style="font-family: 'Arial'\, 'sans-serif'\; font-size: 11pt"><font face="Arial">&nbsp\;</font></span></b></span><b><span style="font-family: 'Arial'\, 'sans-serif'\; font-size: 11pt"><font face="Arial"><o:p></o:p></font></span></b></p>\n<p align="center" style="text-align: center\; margin: 0in 0in 0pt">\n	<span style="color: #000000"><font face="Arial"><b><span style="font-family: 'Arial'\, 'sans-serif'\; font-size: 10pt">Three more&nbsp\;concerts&nbsp\;will be held this summer all at 7:00 pm on Sunday evenings at Chautauqua Park Tabernacle.</span></b></font></span><font face="Arial"><b><span style="font-family: 'Arial'\, 'sans-serif'\; font-size: 11pt"><o:p></o:p></span></b></font></p>\n<p align="center" style="text-align: center\; margin: 0in 0in 0pt">\n	<span style="color: #000000"><font face="Arial"><b><span style="font-family: 'Arial'\, 'sans-serif'\; font-size: 10pt">&nbsp\;</span></b></font></span></p>\n<p align="center" style="text-align: center\; margin: 0in 0in 0pt">\n	<span style="color: #000000"><font face="Arial"><b><span style="font-family: 'Arial'\, 'sans-serif'\; font-size: 10pt">July 1: Theme will be all American to put you in the spirit of the 4th of July.</span></b></font></span><font face="Arial"><b><span style="font-family: 'Arial'\, 'sans-serif'\; font-size: 11pt"><o:p></o:p></span></b></font></p>\n<p align="center" style="text-align: center\; margin: 0in 0in 0pt">\n	<span style="color: #000000"><font face="Arial"><b><span style="font-family: 'Arial'\, 'sans-serif'\; font-size: 10pt">&nbsp\;</span></b></font></span><font face="Arial"><b><span style="font-family: 'Arial'\, 'sans-serif'\; font-size: 11pt"><o:p></o:p></span></b></font></p>\n<p align="center" style="text-align: center\; margin: 0in 0in 0pt">\n	<span style="color: #000000"><font face="Arial"><b><span style="font-family: 'Arial'\, 'sans-serif'\; font-size: 10pt">July 15: Assortment of Broadway musicals</span></b></font></span><font face="Arial"><b><span style="font-family: 'Arial'\, 'sans-serif'\; font-size: 11pt"><o:p></o:p></span></b></font></p>\n<p align="center" style="text-align: center\; margin: 0in 0in 0pt">\n	<span style="color: #000000"><font face="Arial"><b><span style="font-family: 'Arial'\, 'sans-serif'\; font-size: 10pt">&nbsp\;</span></b></font></span><font face="Arial"><b><span style="font-family: 'Arial'\, 'sans-serif'\; font-size: 11pt"><o:p></o:p></span></b></font></p>\n<p align="center" style="text-align: center\; margin: 0in 0in 0pt">\n	<span style="color: #000000"><b><span style="font-family: 'Arial'\, 'sans-serif'\; font-size: 10pt">July 19: Theme will be Celebrating Our Heritage</span></b></span><b><span style="font-family: 'Arial'\, 'sans-serif'\; font-size: 11pt"><o:p></o:p></span></b></p>\n
LOCATION:
UID:e.41.6296
SEQUENCE:3
DTSTAMP:20260422T114146Z
URL:https://business.beatricechamber.com/events/details/gage-county-historical-society-band-performance-07-15-2012-6296
END:VEVENT

END:VCALENDAR
