BEGIN:VCALENDAR
VERSION:2.0
PRODID:-//ChamberMaster//Event Calendar 2.0//EN
METHOD:PUBLISH
X-PUBLISHED-TTL:P3D
REFRESH-INTERVAL:P3D
CALSCALE:GREGORIAN
BEGIN:VEVENT
DTSTART;VALUE=DATE:20100316
DTEND;VALUE=DATE:20100317
TRANSP:TRANSPARENT
X-MICROSOFT-CDO-ALLDAYEVENT:TRUE
SUMMARY:Gage County Immunization Clincin 3/16/10
DESCRIPTION:Gage County Immunization Clinic4 p.m. - 7 p.m.Tuesday\, March 16\, 2010 Parkview Conference Center1216 S. 8th St.Beatrice\, NE Free childhood disease immunizations.  Parents must bring children's immunization records to the clinic.  Appointments not required\, but if desired\, call 228-8513 or 228-8503.
X-ALT-DESC;FMTTYPE=text/html:<div>Gage County Immunization Clinic</div><div>4 p.m. - 7 p.m.</div><div>Tuesday\, March 16\, 2010</div><div>&nbsp\;</div><div>Parkview Conference Center</div><div>1216 S. 8th St.</div><div>Beatrice\, NE</div><div>&nbsp\;</div><div>Free childhood disease immunizations.&nbsp\; Parents must bring children's immunization records to the clinic.&nbsp\; Appointments not required\, but if desired\, call 228-8513 or 228-8503.</div>
LOCATION:
UID:e.41.1703
SEQUENCE:3
DTSTAMP:20260425T153059Z
URL:https://business.beatricechamber.com/events/details/gage-county-immunization-clincin-3-16-10-03-16-2010-1703
END:VEVENT

END:VCALENDAR
