BEGIN:VCALENDAR
VERSION:2.0
PRODID:-//ChamberMaster//Event Calendar 2.0//EN
METHOD:PUBLISH
X-PUBLISHED-TTL:P3D
REFRESH-INTERVAL:P3D
CALSCALE:GREGORIAN
BEGIN:VEVENT
DTSTART:20101116T220000Z
DTEND:20101117T010000Z
X-MICROSOFT-CDO-ALLDAYEVENT:FALSE
SUMMARY:Gage County Immunization Clinic
DESCRIPTION:Gage County Immunization Clinic:\n\n\n\n4 p.m.-7 p.m.\, free childhood disease immunizations\, Parkview Conference Center\, 1216 S. Eighth St.\, Beatrice. Parents must bring children's immunization records to the clinic. Appointments not required\, but if desired\, call 402-228-8513 or 228-8503.
X-ALT-DESC;FMTTYPE=text/html:<strong><span style="font-size: 14px">Gage County Immunization Clinic:</span></strong><br />\n<br />\n4 p.m.-7 p.m.\, free childhood disease immunizations\, Parkview Conference Center\, 1216 S. Eighth St.\, Beatrice. Parents must bring children&#39\;s immunization records to the clinic. Appointments not required\, but if desired\, call 402-228-8513 or 228-8503.
LOCATION:
UID:e.41.2834
SEQUENCE:3
DTSTAMP:20260425T032529Z
URL:https://business.beatricechamber.com/events/details/gage-county-immunization-clinic-11-16-2010-2834
END:VEVENT

END:VCALENDAR
