BEGIN:VCALENDAR
VERSION:2.0
PRODID:-//ChamberMaster//Event Calendar 2.0//EN
METHOD:PUBLISH
X-PUBLISHED-TTL:P3D
REFRESH-INTERVAL:P3D
CALSCALE:GREGORIAN
BEGIN:VEVENT
DTSTART;VALUE=DATE:20110913
DTEND;VALUE=DATE:20110914
TRANSP:TRANSPARENT
X-MICROSOFT-CDO-ALLDAYEVENT:TRUE
SUMMARY:Gage County Legion & Auxiliary Meeting
DESCRIPTION:Gage County Legion & Auxiliary Meeting\n\nhosted by Wymore American Legion and Auxiliary Post 25\n\n\n\nTuesday\, September 13\n\nWymore Legion\, NE\n\n\n\nMeal will be served at 6:30 pm\n\nMeeting at 7 pm\n\n\n\nFor the meal\, $2 donation is requested.\n\n\n\nGage County American Legion Members and Auxiliary Members are invited from Adams\, Barneston\, Beatrice\, Cortland\, Liberty\, Odell\, Virginia\, Wymore
X-ALT-DESC;FMTTYPE=text/html:Gage County Legion &amp\; Auxiliary Meeting<br />\nhosted by Wymore American Legion and Auxiliary Post 25<br />\n<br />\nTuesday\, September 13<br />\nWymore Legion\, NE<br />\n<br />\nMeal will be served at 6:30 pm<br />\nMeeting at 7 pm<br />\n<br />\nFor the meal\, $2 donation is requested.<br />\n<br />\nGage County American Legion Members and Auxiliary Members are invited from Adams\, Barneston\, Beatrice\, Cortland\, Liberty\, Odell\, Virginia\, Wymore
LOCATION:
UID:e.41.5102
SEQUENCE:3
DTSTAMP:20260424T123324Z
URL:https://business.beatricechamber.com/events/details/gage-county-legion-auxiliary-meeting-09-13-2011-5102
END:VEVENT

END:VCALENDAR
