BEGIN:VCALENDAR
VERSION:2.0
PRODID:-//ChamberMaster//Event Calendar 2.0//EN
METHOD:PUBLISH
X-PUBLISHED-TTL:P3D
REFRESH-INTERVAL:P3D
CALSCALE:GREGORIAN
BEGIN:VEVENT
DTSTART:20120601T230000Z
DTEND:20120603T220000Z
X-MICROSOFT-CDO-ALLDAYEVENT:FALSE
SUMMARY:Gage County offering emergency response training course
DESCRIPTION:Members of the public wanting to learn how to care for themselves\, their family\, and the community during a disaster are encouraged to participate in Community Emergency Response Teams.\n\n\n\nIt is offered June 1-3. June 1st- 6 to 9 pm\; June 2nd- 9 am to 5 pm\; and June 3rd- 11 am to 5 pm.\n\nTo participate in the training\, call Gage County Emergency Management Director Mark Meints at 402-223-1305 or email gagecoma@diodecom.net. Class size is limited to 25 students.\n\nThis training is offered for free by way of the U.S. Dept. of Homeland Security Citizen Corps funding to Nebraska Emergency Management Agency and the local "Point of Contact" for Citizen Corps: Volunteer Partners of Lincoln.
X-ALT-DESC;FMTTYPE=text/html:Members of the public wanting to learn&nbsp\;how to care for themselves\, their family\,&nbsp\;and the community&nbsp\;during&nbsp\;a disaster are&nbsp\;encouraged to&nbsp\;participate in&nbsp\;Community&nbsp\;Emergency&nbsp\;Response Teams.<br />\n<br />\nIt is offered June 1-3. June 1st-&nbsp\;6 to&nbsp\;9 pm\;&nbsp\;June 2nd-&nbsp\;9 am&nbsp\;to 5 pm\;&nbsp\;and June 3rd-&nbsp\;11 am&nbsp\;to 5&nbsp\;pm.<br />\nTo participate&nbsp\;in the training\, call Gage&nbsp\;County Emergency Management Director Mark Meints at&nbsp\;402-223-1305&nbsp\;or email&nbsp\;<a href="mailto:gagecoma@diodecom.net">gagecoma@diodecom.net</a>.&nbsp\;Class size is limited to 25&nbsp\;students.<br />\nThis training&nbsp\;is offered for free&nbsp\;by way of the U.S.&nbsp\;Dept. of Homeland&nbsp\;Security&nbsp\;Citizen Corps funding to Nebraska Emergency&nbsp\;Management Agency and the local&nbsp\;&quot\;Point&nbsp\;of Contact&quot\; for Citizen Corps: Volunteer&nbsp\;Partners of Lincoln.
LOCATION:
UID:e.41.5500
SEQUENCE:3
DTSTAMP:20260422T130941Z
URL:https://business.beatricechamber.com/events/details/gage-county-offering-emergency-response-training-course-06-01-2012-5500
END:VEVENT

END:VCALENDAR
