BEGIN:VCALENDAR
VERSION:2.0
PRODID:-//ChamberMaster//Event Calendar 2.0//EN
METHOD:PUBLISH
X-PUBLISHED-TTL:P3D
REFRESH-INTERVAL:P3D
CALSCALE:GREGORIAN
BEGIN:VEVENT
DTSTART:20120407T150000Z
DTEND:20120407T170000Z
X-MICROSOFT-CDO-ALLDAYEVENT:FALSE
SUMMARY:Gage County PATCH Trail Walk (1st of 4 walks)
DESCRIPTION:Beatrice Community Hospital PATCH (Planned Approach To Community Health) "Let's Move!" Trail Walk. This is the first of four Saturday trail walks in the month of April. Begins at 10:00 a.m. at the Trailhead Park Shelter (across from the Gage County Museum). Will walk to 6th Street and back. Free and open to the public. Free pedometer and exercise journal for trail walk participants\, while supplies last. Additional information at : www.beatricene.com/patch.
X-ALT-DESC;FMTTYPE=text/html:Beatrice Community Hospital PATCH (Planned Approach To Community Health) &quot\;Let&#39\;s Move!&quot\; Trail Walk. This is the first of four Saturday trail walks in the month of April. Begins at 10:00 a.m. at the Trailhead Park Shelter (across from the Gage County Museum). Will walk to 6th Street and back. Free and open to the public. Free pedometer and exercise journal for trail walk participants\, while supplies last. Additional information at : www.beatricene.com/patch.
LOCATION:Register at the Trailhead Park Shelter (across from the Gage County Museum). Will walk to 6th Street and back.
UID:e.41.5401
SEQUENCE:3
DTSTAMP:20260422T155101Z
URL:https://business.beatricechamber.com/events/details/gage-county-patch-trail-walk-1st-of-4-walks-04-07-2012-5401
END:VEVENT

END:VCALENDAR
