BEGIN:VCALENDAR
VERSION:2.0
PRODID:-//ChamberMaster//Event Calendar 2.0//EN
METHOD:PUBLISH
X-PUBLISHED-TTL:P3D
REFRESH-INTERVAL:P3D
CALSCALE:GREGORIAN
BEGIN:VEVENT
DTSTART:20120414T150000Z
DTEND:20120414T170000Z
X-MICROSOFT-CDO-ALLDAYEVENT:FALSE
SUMMARY:Gage County PATCH Trail Walk (2nd of 4 walks)
DESCRIPTION:Beatrice Community Hospital PATCH (Planned Approach To Community Health) "Let's Move!" Trail Walk. This is the second of four Saturday trail walks in the month of April. Begins at 10:00 a.m. at the Beatrice YMCA. Will walk to 6th Street bridge (alternate goal is Chautauqua Park) and back. Free and open to the public. Adult and child prize drawing for trail walk participants\, sponsored by YMCA. Held in conjunction with YMCA "Healthy Kids Day." Additional information at: www.beatricene.com/patch.
X-ALT-DESC;FMTTYPE=text/html:Beatrice Community Hospital PATCH (Planned Approach To Community Health) &quot\;Let&#39\;s Move!&quot\; Trail Walk. This is the second of four Saturday trail walks in the month of April. Begins at 10:00 a.m. at the Beatrice YMCA. Will walk to 6th Street bridge (alternate goal is Chautauqua Park) and back. Free and open to the public. Adult and child prize drawing for trail walk participants\, sponsored by YMCA. Held in conjunction with YMCA &quot\;Healthy Kids Day.&quot\; Additional information at: www.beatricene.com/patch.
LOCATION:Register at Beatrice YMCA. Will walk to the 6th Street bridge (alternate goal is Chautauqua Park) and back.
UID:e.41.5402
SEQUENCE:3
DTSTAMP:20260422T155102Z
URL:https://business.beatricechamber.com/events/details/gage-county-patch-trail-walk-2nd-of-4-walks-04-14-2012-5402
END:VEVENT

END:VCALENDAR
