BEGIN:VCALENDAR
VERSION:2.0
PRODID:-//ChamberMaster//Event Calendar 2.0//EN
METHOD:PUBLISH
X-PUBLISHED-TTL:P3D
REFRESH-INTERVAL:P3D
CALSCALE:GREGORIAN
BEGIN:VEVENT
DTSTART:20120421T150000Z
DTEND:20120421T170000Z
X-MICROSOFT-CDO-ALLDAYEVENT:FALSE
SUMMARY:Gage County PATCH Trail Walk (3rd of 4 walks)
DESCRIPTION:Beatrice Community Hospital PATCH (Planned Approach To Community Health) "Let's Move!" Trail Walk. This is the third of four Saturday trail walks in the month of April. Begins at 10:00 a.m. at Riverside Park. Will walk to Court Street and back. Free and open to the public. Free nylon disc flyer\, while supplies last\, provided by Public Health Solutions. Held in conjunction with Leadership Beatrice "Don't Just Park It\, Let's Move!" event. Additional information at : www.beatricene.com/patch.
X-ALT-DESC;FMTTYPE=text/html:Beatrice Community Hospital PATCH (Planned Approach To Community Health) &quot\;Let&#39\;s Move!&quot\; Trail Walk. This is the third of four Saturday trail walks in the month of April. Begins at 10:00 a.m. at Riverside Park. Will walk to Court Street and back. Free and open to the public. Free nylon disc flyer\, while supplies last\, provided by Public Health Solutions. Held in conjunction with Leadership Beatrice &quot\;Don&#39\;t Just Park It\, Let&#39\;s Move!&quot\; event. Additional information at : www.beatricene.com/patch.
LOCATION:Register at Riverside Park. Will walk to Court Street and back.
UID:e.41.5403
SEQUENCE:3
DTSTAMP:20260422T154916Z
URL:https://business.beatricechamber.com/events/details/gage-county-patch-trail-walk-3rd-of-4-walks-04-21-2012-5403
END:VEVENT

END:VCALENDAR
