BEGIN:VCALENDAR
VERSION:2.0
PRODID:-//ChamberMaster//Event Calendar 2.0//EN
METHOD:PUBLISH
X-PUBLISHED-TTL:P3D
REFRESH-INTERVAL:P3D
CALSCALE:GREGORIAN
BEGIN:VEVENT
DTSTART:20120428T150000Z
DTEND:20120428T170000Z
X-MICROSOFT-CDO-ALLDAYEVENT:FALSE
SUMMARY:Gage County PATCH Trail Walk (4th and final trail walk for 2012)
DESCRIPTION:Beatrice Community Hospital PATCH (Planned Approach To Community Health) "Let's Move!" Trail Walk. This is the fourth and final Saturday trail walk for 2012. Begins at 10:00 a.m. at the Homestead National Monument. Will walk to the trails of Homestead National Park. Free and open to the public. Homestead commemorative water bottles will be available while supplies last. Held in conjunction with the Homestead National Monument "Get Out and Get Fit Spring Fling" and "Quilt Discovery Walk." Additional information at: www.beatricene.com/patch.
X-ALT-DESC;FMTTYPE=text/html:Beatrice Community Hospital PATCH (Planned Approach To Community Health) &quot\;Let&#39\;s Move!&quot\; Trail Walk. This is the fourth and final Saturday trail walk for 2012. Begins at 10:00 a.m. at the Homestead National Monument. Will walk to the trails of Homestead National Park. Free and open to the public. Homestead commemorative water bottles will be available while supplies last. Held in conjunction with the Homestead National Monument &quot\;Get Out and Get Fit Spring Fling&quot\; and &quot\;Quilt Discovery Walk.&quot\; Additional information at: www.beatricene.com/patch.
LOCATION:Homestead National Monument
UID:e.41.5404
SEQUENCE:3
DTSTAMP:20260422T154933Z
URL:https://business.beatricechamber.com/events/details/gage-county-patch-trail-walk-4th-and-final-trail-walk-for-2012-04-28-2012-5404
END:VEVENT

END:VCALENDAR
