BEGIN:VCALENDAR
VERSION:2.0
PRODID:-//ChamberMaster//Event Calendar 2.0//EN
METHOD:PUBLISH
X-PUBLISHED-TTL:P3D
REFRESH-INTERVAL:P3D
CALSCALE:GREGORIAN
BEGIN:VEVENT
DTSTART;VALUE=DATE:20120428
DTEND;VALUE=DATE:20120429
TRANSP:TRANSPARENT
X-MICROSOFT-CDO-ALLDAYEVENT:TRUE
SUMMARY:Gage County Prescription Drug Takeback Event
DESCRIPTION:Gage County Prescription Drug Takeback Event \n\n\n\nSaturday\, April 28\n\n10 am - 2 pm
X-ALT-DESC;FMTTYPE=text/html:<span style="font-size: 10pt"><span style="color: #857458"><span style="font-family: arial\, sans-serif">Gage County Prescription Drug Takeback Event </span></span></span><br />\n<br />\nSaturday\, April 28<br />\n10 am - 2 pm<br />\n<br />\n
LOCATION:
UID:e.41.5361
SEQUENCE:3
DTSTAMP:20260422T155942Z
URL:https://business.beatricechamber.com/events/details/gage-county-prescription-drug-takeback-event-04-28-2012-5361
END:VEVENT

END:VCALENDAR
