BEGIN:VCALENDAR
VERSION:2.0
PRODID:-//ChamberMaster//Event Calendar 2.0//EN
METHOD:PUBLISH
X-PUBLISHED-TTL:P3D
REFRESH-INTERVAL:P3D
CALSCALE:GREGORIAN
BEGIN:VEVENT
DTSTART:20110824T170000Z
DTEND:20110824T230000Z
X-MICROSOFT-CDO-ALLDAYEVENT:FALSE
SUMMARY:Gage County Red Cross Bloodmobile
DESCRIPTION:Noon-6 p.m.\, Holiday Inn Express\, 4005 N. 6th St.\, Beatrice
X-ALT-DESC;FMTTYPE=text/html:Noon-6 p.m.\, Holiday Inn Express\, 4005 N. 6th St.\, Beatrice
LOCATION:
UID:e.41.5050
SEQUENCE:3
DTSTAMP:20260424T134720Z
URL:https://business.beatricechamber.com/events/details/gage-county-red-cross-bloodmobile-08-24-2011-5050
END:VEVENT

END:VCALENDAR
