BEGIN:VCALENDAR
VERSION:2.0
PRODID:-//ChamberMaster//Event Calendar 2.0//EN
METHOD:PUBLISH
X-PUBLISHED-TTL:P3D
REFRESH-INTERVAL:P3D
CALSCALE:GREGORIAN
BEGIN:VEVENT
DTSTART:20110825T180000Z
DTEND:20110826T000000Z
X-MICROSOFT-CDO-ALLDAYEVENT:FALSE
SUMMARY:Gage County Red Cross Bloodmobile
DESCRIPTION:1-7 p.m.\, Community Building\, 202 Main St.\, Odell
X-ALT-DESC;FMTTYPE=text/html:1-7 p.m.\, Community Building\, 202 Main St.\, Odell
LOCATION:
UID:e.41.5052
SEQUENCE:3
DTSTAMP:20260424T134713Z
URL:https://business.beatricechamber.com/events/details/gage-county-red-cross-bloodmobile-08-25-2011-5052
END:VEVENT

END:VCALENDAR
