BEGIN:VCALENDAR
VERSION:2.0
PRODID:-//ChamberMaster//Event Calendar 2.0//EN
METHOD:PUBLISH
X-PUBLISHED-TTL:P3D
REFRESH-INTERVAL:P3D
CALSCALE:GREGORIAN
BEGIN:VEVENT
DTSTART;VALUE=DATE:20110811
DTEND;VALUE=DATE:20110812
TRANSP:TRANSPARENT
X-MICROSOFT-CDO-ALLDAYEVENT:TRUE
SUMMARY:Gage County Tourism Awards Reception
DESCRIPTION:2011 Gage County Tourism Awards Reception.\n\n \n\nDate: Thursday\, August 11\, 2011\n\nPlace: Education Center at Homestead National Monument\n\nTime: 6:00 p.m.
X-ALT-DESC;FMTTYPE=text/html:&nbsp\;<span style="font-weight: bold\; language: en-us"><span style="font-size: 18pt"><span style="font-family: script mt bold">2011 Gage County Tourism Awards Reception.</span></span></span><br />\n&nbsp\;<br />\n<span style="font-style: italic\; font-weight: bold\; text-decoration: underline\; language: en-us\; text-underline: single"><span style="font-size: 16pt"><span style="font-family: script mt bold">Date: </span></span></span><span style="language: en-us"><span style="font-size: 14pt"><span style="color: blue"><span style="font-family: script mt bold">Thursday\, August 11\, 2011</span></span></span></span><br />\n<span style="font-style: italic\; font-weight: bold\; text-decoration: underline\; language: en-us\; text-underline: single"><span style="font-size: 16pt"><span style="font-family: script mt bold">Place: </span></span></span><span style="language: en-us"><span style="font-size: 14pt"><span style="font-family: script mt bold">Education Center at Homestead National Monument</span></span></span><br />\n<span style="font-style: italic\; font-weight: bold\; text-decoration: underline\; language: en-us\; text-underline: single"><span style="font-size: 16pt"><span style="font-family: script mt bold">Time: </span></span></span><span style="language: en-us"><span style="font-size: 14pt"><span style="font-family: script mt bold">6:00 p.m.</span></span></span><br />\n&nbsp\;&nbsp\;<br />\n
LOCATION:
UID:e.41.4979
SEQUENCE:3
DTSTAMP:20260424T135217Z
URL:https://business.beatricechamber.com/events/details/gage-county-tourism-awards-reception-08-11-2011-4979
END:VEVENT

END:VCALENDAR
