BEGIN:VCALENDAR
VERSION:2.0
PRODID:-//ChamberMaster//Event Calendar 2.0//EN
METHOD:PUBLISH
X-PUBLISHED-TTL:P3D
REFRESH-INTERVAL:P3D
CALSCALE:GREGORIAN
BEGIN:VEVENT
DTSTART:20111002T130000Z
DTEND:20111002T180000Z
X-MICROSOFT-CDO-ALLDAYEVENT:FALSE
SUMMARY:Gage County United Way Pancake Feed
DESCRIPTION:Please come support the Gage County United Way! Proceeds to GCUW agencies: American Red Cross SE NE Chapter\, Beatrice Mary Family YMCA\, Boy Scouts of America Cornhusker Council\, The 429 Factory\, Gage County Christmas Wish List Project\, Girl Scouts Spirit of Nebraska\, Meals on Wheels of Beatrice\, Mother to Mother Ministry\, Pioneer Foster Grandparents\, The Salvation Army\, and YRI.
X-ALT-DESC;FMTTYPE=text/html:Please come support the Gage County United Way!&nbsp\;Proceeds to GCUW agencies: American Red Cross SE NE Chapter\, Beatrice Mary Family YMCA\, Boy Scouts of America Cornhusker Council\, The 429 Factory\, Gage County Christmas Wish List Project\, Girl Scouts Spirit of Nebraska\, Meals on Wheels of Beatrice\, Mother to Mother Ministry\, Pioneer Foster Grandparents\, The Salvation Army\, and YRI. 
LOCATION:American Legion\, Post 27 701 Dorsey Street\, Beatrice
UID:e.41.5074
SEQUENCE:3
DTSTAMP:20260424T111434Z
URL:https://business.beatricechamber.com/events/details/gage-county-united-way-pancake-feed-10-02-2011-5074
END:VEVENT

END:VCALENDAR
