BEGIN:VCALENDAR
VERSION:2.0
PRODID:-//ChamberMaster//Event Calendar 2.0//EN
METHOD:PUBLISH
X-PUBLISHED-TTL:P3D
REFRESH-INTERVAL:P3D
CALSCALE:GREGORIAN
BEGIN:VEVENT
DTSTART:20120302T173000Z
DTEND:20120302T190000Z
X-MICROSOFT-CDO-ALLDAYEVENT:FALSE
SUMMARY:Gage County Workforce 101
DESCRIPTION:This is a new committee that will be focusing on working with our High School Students\, looking at Job Shadowing\, Career Fairs\, Dream It - Do It program.\n\nThis meeting will help us outline the goals and set priorities for 2012.\n\nWe will also look at contacting the B.H. Alumni and look at a plan for recruitment of families.
X-ALT-DESC;FMTTYPE=text/html:This is a new committee that will be focusing on working with our High School Students\, looking at Job Shadowing\, Career Fairs\, Dream It - Do It program.<br />\nThis meeting will help us outline the goals and set priorities for 2012.<br />\nWe will also look at contacting the B.H. Alumni and look at a plan for recruitment of families.
LOCATION:City Auditorium Conference Room
UID:e.41.5335
SEQUENCE:3
DTSTAMP:20260422T171821Z
URL:https://business.beatricechamber.com/events/details/gage-county-workforce-101-03-02-2012-5335
END:VEVENT

END:VCALENDAR
