BEGIN:VCALENDAR
VERSION:2.0
PRODID:-//ChamberMaster//Event Calendar 2.0//EN
METHOD:PUBLISH
X-PUBLISHED-TTL:P3D
REFRESH-INTERVAL:P3D
CALSCALE:GREGORIAN
BEGIN:VEVENT
DTSTART;VALUE=DATE:20110328
DTEND;VALUE=DATE:20110329
TRANSP:TRANSPARENT
X-MICROSOFT-CDO-ALLDAYEVENT:TRUE
SUMMARY:Game Night
DESCRIPTION:Game Night\n\n\n\nMonday\, March 28\n\n7 pm\n\n\n\nWymore Presbyterian Church\n\n517 N 12th\n\nWymore\, NE\n\n\n\nCards & Games - Public Invited.
X-ALT-DESC;FMTTYPE=text/html:Game Night<br />\n<br />\nMonday\, March 28<br />\n7 pm<br />\n<br />\nWymore Presbyterian Church<br />\n517 N 12th<br />\nWymore\, NE<br />\n<br />\nCards &amp\; Games - Public Invited.
LOCATION:
UID:e.41.4255
SEQUENCE:3
DTSTAMP:20260424T211351Z
URL:https://business.beatricechamber.com/events/details/game-night-03-28-2011-4255
END:VEVENT

END:VCALENDAR
