BEGIN:VCALENDAR
VERSION:2.0
PRODID:-//ChamberMaster//Event Calendar 2.0//EN
METHOD:PUBLISH
X-PUBLISHED-TTL:P3D
REFRESH-INTERVAL:P3D
CALSCALE:GREGORIAN
BEGIN:VEVENT
DTSTART;VALUE=DATE:20110627
DTEND;VALUE=DATE:20110628
TRANSP:TRANSPARENT
X-MICROSOFT-CDO-ALLDAYEVENT:TRUE
SUMMARY:Game Night
DESCRIPTION:7:00 p.m.  Wymore Presbyterian Church\, 517 N. 12th St.\, Wymore\, NE.  Cards & games -- public invited.
X-ALT-DESC;FMTTYPE=text/html:<p>\n	7:00 p.m.&nbsp\; Wymore Presbyterian Church\, 517 N. 12th St.\, Wymore\, NE.&nbsp\; Cards &amp\; games -- public invited.</p>\n
LOCATION:
UID:e.41.4866
SEQUENCE:3
DTSTAMP:20260424T165313Z
URL:https://business.beatricechamber.com/events/details/game-night-06-27-2011-4866
END:VEVENT

END:VCALENDAR
