BEGIN:VCALENDAR
VERSION:2.0
PRODID:-//ChamberMaster//Event Calendar 2.0//EN
METHOD:PUBLISH
X-PUBLISHED-TTL:P3D
REFRESH-INTERVAL:P3D
CALSCALE:GREGORIAN
BEGIN:VEVENT
DTSTART;VALUE=DATE:20110725
DTEND;VALUE=DATE:20110726
TRANSP:TRANSPARENT
X-MICROSOFT-CDO-ALLDAYEVENT:TRUE
SUMMARY:Game Night
DESCRIPTION:Starts at 7 p.m. at the Wymore Presbyterian Church\, 517 N. 12th St.\, Wymore\, NE.  Cards & Games - public invited!
X-ALT-DESC;FMTTYPE=text/html:Starts at 7 p.m. at the Wymore Presbyterian Church\, 517 N. 12th St.\, Wymore\, NE.&nbsp\; Cards &amp\; Games - public invited!
LOCATION:
UID:e.41.4938
SEQUENCE:3
DTSTAMP:20260424T152904Z
URL:https://business.beatricechamber.com/events/details/game-night-07-25-2011-4938
END:VEVENT

END:VCALENDAR
