BEGIN:VCALENDAR
VERSION:2.0
PRODID:-//ChamberMaster//Event Calendar 2.0//EN
METHOD:PUBLISH
X-PUBLISHED-TTL:P3D
REFRESH-INTERVAL:P3D
CALSCALE:GREGORIAN
BEGIN:VEVENT
DTSTART;VALUE=DATE:20110822
DTEND;VALUE=DATE:20110823
TRANSP:TRANSPARENT
X-MICROSOFT-CDO-ALLDAYEVENT:TRUE
SUMMARY:Game Night
DESCRIPTION:7 p.m. Wymore Presbyterian Church\, 517 N. 12th St.\, Wymore.  Cards & games - public invited.
X-ALT-DESC;FMTTYPE=text/html:7 p.m. Wymore Presbyterian Church\, 517 N. 12th St.\, Wymore.&nbsp\; Cards &amp\; games - public invited.
LOCATION:
UID:e.41.5031
SEQUENCE:3
DTSTAMP:20260424T134224Z
URL:https://business.beatricechamber.com/events/details/game-night-08-22-2011-5031
END:VEVENT

END:VCALENDAR
