BEGIN:VCALENDAR
VERSION:2.0
PRODID:-//ChamberMaster//Event Calendar 2.0//EN
METHOD:PUBLISH
X-PUBLISHED-TTL:P3D
REFRESH-INTERVAL:P3D
CALSCALE:GREGORIAN
BEGIN:VEVENT
DTSTART;VALUE=DATE:20120503
DTEND;VALUE=DATE:20120506
TRANSP:TRANSPARENT
X-MICROSOFT-CDO-ALLDAYEVENT:TRUE
SUMMARY:Garage Sale
DESCRIPTION:Time: 4-8 p.m.\n\n\n\nPlace: Wymore United Presbyterian Church\n\n\n\nBake sale\, coffee & cinnamon rolls\, lunch with homemade pies
X-ALT-DESC;FMTTYPE=text/html:Time:&nbsp\;4-8&nbsp\;p.m.<br />\n<br />\nPlace:&nbsp\;Wymore United Presbyterian Church<br />\n<br />\nBake&nbsp\;sale\, coffee&nbsp\;&amp\; cinnamon rolls\, lunch with homemade pies
LOCATION:
UID:e.41.5479
SEQUENCE:3
DTSTAMP:20260422T142352Z
URL:https://business.beatricechamber.com/events/details/garage-sale-05-03-2012-5479
END:VEVENT

END:VCALENDAR
