BEGIN:VCALENDAR
VERSION:2.0
PRODID:-//ChamberMaster//Event Calendar 2.0//EN
METHOD:PUBLISH
X-PUBLISHED-TTL:P3D
REFRESH-INTERVAL:P3D
CALSCALE:GREGORIAN
BEGIN:VEVENT
DTSTART;VALUE=DATE:20100321
DTEND;VALUE=DATE:20100322
TRANSP:TRANSPARENT
X-MICROSOFT-CDO-ALLDAYEVENT:TRUE
SUMMARY:Genealogy Presentation at OWTC 3/21/10
DESCRIPTION:Geneology PresentationOld West Trails CenterOdell\, NE Mitch Zabokrtsky of Endicott will present a geneology lessonSunday\, March 21\, 20101 p.m. There will also  be a discussion of Odell's ZCBJ Lodge.
X-ALT-DESC;FMTTYPE=text/html:<div>Geneology Presentation</div><div>Old West Trails Center</div><div>Odell\, NE</div><div>&nbsp\;</div><div>Mitch Zabokrtsky of Endicott will present a geneology lesson</div><div>Sunday\, March 21\, 2010</div><div>1 p.m.</div><div>&nbsp\;</div><div>There will also&nbsp\; be a discussion of Odell's ZCBJ Lodge.</div><div>&nbsp\;</div><div>&nbsp\;</div>
LOCATION:
UID:e.41.1929
SEQUENCE:3
DTSTAMP:20260425T153116Z
URL:https://business.beatricechamber.com/events/details/genealogy-presentation-at-owtc-3-21-10-03-21-2010-1929
END:VEVENT

END:VCALENDAR
