BEGIN:VCALENDAR
VERSION:2.0
PRODID:-//ChamberMaster//Event Calendar 2.0//EN
METHOD:PUBLISH
X-PUBLISHED-TTL:P3D
REFRESH-INTERVAL:P3D
CALSCALE:GREGORIAN
BEGIN:VEVENT
DTSTART;VALUE=DATE:20111015
DTEND;VALUE=DATE:20111017
TRANSP:TRANSPARENT
X-MICROSOFT-CDO-ALLDAYEVENT:TRUE
SUMMARY:Genealogy Workshop
DESCRIPTION:Celebrate Family History Month with Homestead National Monument\n\n	along with Family Search and the Nebraska State Genealogical Society\n\n	\n\n	Genealogical Workshops:  October 15 & 16\n\n	2 - 4 pm\n\n	\n\n	Homestead National Monument Education Center\n\n	\n\n	Homestead National Monument of America is a unit of the National Park Service located four miles west of Beatrice.  For additional information\, please call 402-223-3514 or visit www.nps.gov/home/index.htm.
X-ALT-DESC;FMTTYPE=text/html:<p>\n	Celebrate Family History Month with Homestead National Monument<br />\n	along with Family Search and the Nebraska State Genealogical Society<br />\n	<br />\n	Genealogical Workshops:&nbsp\; October 15 &amp\; 16<br />\n	2 - 4 pm<br />\n	<br />\n	Homestead National Monument Education Center<br />\n	<br />\n	Homestead National Monument of America is a unit of the National Park Service located four miles west of Beatrice.&nbsp\; For additional information\, please call 402-223-3514 or visit www.nps.gov/home/index.htm.<br />\n	&nbsp\;</p>\n
LOCATION:
UID:e.41.5137
SEQUENCE:3
DTSTAMP:20260424T111101Z
URL:https://business.beatricechamber.com/events/details/genealogy-workshop-10-15-2011-5137
END:VEVENT

END:VCALENDAR
