BEGIN:VCALENDAR
VERSION:2.0
PRODID:-//ChamberMaster//Event Calendar 2.0//EN
METHOD:PUBLISH
X-PUBLISHED-TTL:P3D
REFRESH-INTERVAL:P3D
CALSCALE:GREGORIAN
BEGIN:VEVENT
DTSTART:20120428T140000Z
DTEND:20120428T200000Z
X-MICROSOFT-CDO-ALLDAYEVENT:FALSE
SUMMARY:Get Out Get Fit & Spring Fling Trail Run
DESCRIPTION:Spirit of the Prairie\n\nTrail Run\n\n\n\nSaturday\, April 28\n\n\n\n1 Mile Walk/Run\n\n5K\n\n10K\n\n\n\nSponsored by Anytime Fitness in conjunction with the Homestead Running Club and Homestead National Monument of America\n\n\n\nContact Homestead Running Club:\n\n933 Prairie Lane\n\nBeatrice\, NE  68310\n\n402-641-5746
X-ALT-DESC;FMTTYPE=text/html:Spirit of the Prairie<br />\nTrail Run<br />\n<br />\nSaturday\, April 28<br />\n<br />\n1 Mile Walk/Run<br />\n5K<br />\n10K<br />\n<br />\nSponsored by Anytime Fitness in conjunction with the Homestead Running Club and Homestead National Monument of America<br />\n<br />\nContact Homestead Running Club:<br />\n933 Prairie Lane<br />\nBeatrice\, NE&nbsp\; 68310<br />\n402-641-5746
LOCATION:Homestead National Monument of America
UID:e.41.5349
SEQUENCE:3
DTSTAMP:20260422T154916Z
URL:https://business.beatricechamber.com/events/details/get-out-get-fit-spring-fling-trail-run-04-28-2012-5349
END:VEVENT

END:VCALENDAR
