BEGIN:VCALENDAR
VERSION:2.0
PRODID:-//ChamberMaster//Event Calendar 2.0//EN
METHOD:PUBLISH
X-PUBLISHED-TTL:P3D
REFRESH-INTERVAL:P3D
CALSCALE:GREGORIAN
BEGIN:VEVENT
DTSTART;VALUE=DATE:20110626
DTEND;VALUE=DATE:20110627
TRANSP:TRANSPARENT
X-MICROSOFT-CDO-ALLDAYEVENT:TRUE
SUMMARY:"Gifted Hands"
DESCRIPTION:"Gifted Hands\," 6:30 p.m. free movie night at the Beatrice Mennonite Church located at 1220 Summit St.  There is no charge and there will be free popcorn and soda.  Complimentary childcare available.\n\n	\n\n	For more information about this event\, call 402-228-3644.
X-ALT-DESC;FMTTYPE=text/html:<p>\n	&quot\;Gifted Hands\,&quot\; 6:30 p.m. free movie night at the Beatrice Mennonite Church located at 1220 Summit St.&nbsp\; There is no charge and there will be free popcorn and soda.&nbsp\; Complimentary childcare available.<br />\n	<br />\n	For more information about this event\, call 402-228-3644.</p>\n
LOCATION:
UID:e.41.4921
SEQUENCE:3
DTSTAMP:20260424T165344Z
URL:https://business.beatricechamber.com/events/details/gifted-hands-06-26-2011-4921
END:VEVENT

END:VCALENDAR
