BEGIN:VCALENDAR
VERSION:2.0
PRODID:-//ChamberMaster//Event Calendar 2.0//EN
METHOD:PUBLISH
X-PUBLISHED-TTL:P3D
REFRESH-INTERVAL:P3D
CALSCALE:GREGORIAN
BEGIN:VEVENT
DTSTART:20110829T233000Z
DTEND:20110830T003000Z
X-MICROSOFT-CDO-ALLDAYEVENT:FALSE
SUMMARY:Girl Scouts Spirit of Nebraska Open House
DESCRIPTION:Open house and registration night from 6:30 p.m.-7:30 p.m. at the Beatrice Public Library\, 16th and Court St.  Girls in grades K-12 who are interested in joining Girl Scouts are invited to attend.  Registration fee to join is $12.  Financial assistance is available.\n\n\n\nFor more information contact Teresa at 402-239-5549\, Venita at 402-239-9812\, or Stacy at 402-223-4475.
X-ALT-DESC;FMTTYPE=text/html:Open house and registration night from 6:30 p.m.-7:30 p.m. at the Beatrice Public Library\, 16th and Court St.&nbsp\; Girls in grades K-12 who are interested in joining Girl Scouts are invited to attend.&nbsp\; Registration fee to join is $12.&nbsp\; Financial assistance is available.<br />\n<br />\nFor more information contact Teresa at 402-239-5549\, Venita at 402-239-9812\, or Stacy at 402-223-4475.
LOCATION:
UID:e.41.5061
SEQUENCE:3
DTSTAMP:20260424T141400Z
URL:https://business.beatricechamber.com/events/details/girl-scouts-spirit-of-nebraska-open-house-08-29-2011-5061
END:VEVENT

END:VCALENDAR
