BEGIN:VCALENDAR
VERSION:2.0
PRODID:-//ChamberMaster//Event Calendar 2.0//EN
METHOD:PUBLISH
X-PUBLISHED-TTL:P3D
REFRESH-INTERVAL:P3D
CALSCALE:GREGORIAN
BEGIN:VEVENT
DTSTART:20101219T170000Z
DTEND:20101219T170000Z
X-MICROSOFT-CDO-ALLDAYEVENT:FALSE
SUMMARY:"Gloria" to be presented Dec. 19 at Centenary
DESCRIPTION:The Chancel Choir of Centenary United Methodist Church\, under the direction of John Gruett\, will be presenting "Gloria" by baroque composer Antonio Vivaldi Dec. 19\, during their 11 a.m. service. The community is invited to join in for this Advent celebration. Centenary is located at Sixth and Elk streets in Beatrice.
X-ALT-DESC;FMTTYPE=text/html:<strong>The Chancel Choir of Centenary United Methodist Church\, under the direction of John Gruett\, will be presenting &quot\;Gloria&quot\; by baroque composer Antonio Vivaldi Dec. 19\, during their 11 a.m. service. The community is invited to join in for this Advent celebration. Centenary is located at Sixth and Elk streets in Beatrice.</strong>
LOCATION:
UID:e.41.2918
SEQUENCE:3
DTSTAMP:20260425T014207Z
URL:https://business.beatricechamber.com/events/details/gloria-to-be-presented-dec-19-at-centenary-12-19-2010-2918
END:VEVENT

END:VCALENDAR
