BEGIN:VCALENDAR
VERSION:2.0
PRODID:-//ChamberMaster//Event Calendar 2.0//EN
METHOD:PUBLISH
X-PUBLISHED-TTL:P3D
REFRESH-INTERVAL:P3D
CALSCALE:GREGORIAN
BEGIN:VEVENT
DTSTART:20090809T233000Z
DTEND:20090810T010000Z
X-MICROSOFT-CDO-ALLDAYEVENT:FALSE
SUMMARY:Go Fish Concert
DESCRIPTION:GO FISH ConcertAugust 9\, 2009 6:30 p.m.At the Hevelone Center     Beatrice\, NE Tickets $10 for Adults  $6 for children 12 and under All Proceeds from the concert will go to Mother to Mother MinistriesThis is a Christian family concert for all ages! Sponsored by Holy Cross Lutheran ChurchA grant from the Hevelone Foundation allows us to offer these reasonable ticket pricesA grant from Thrivent Care Abounds in Communities allows us to provide tickets for those served by Mother to Mother Ministries Tickets are available at:Holy Cross Lutheran ChurchMichelle Chenoweth InsuranceDeines PharmacyJefferson Community Health Center Business Officeholycrossbeatrice.com
X-ALT-DESC;FMTTYPE=text/html:<div><div style="margin: 0in 0in 0pt">&nbsp\;</div><div style="margin: 0in 0in 0pt"><b>&nbsp\;</b></div><div style="margin: 0in 0in 0pt\; text-align: center"><b><span style="font-size: 36pt\; color: red">GO FISH Concert</span></b></div><div style="margin: 0in 0in 0pt" align="center"><b><span style="font-size: 36pt\; color: red">August 9\, 2009&nbsp\;6:30 p.m.</span></b></div><div style="margin: 0in 0in 0pt" align="center"><b><span style="font-size: 22pt\; color: #3366ff">At the Hevelone Center&nbsp\;&nbsp\;&nbsp\;&nbsp\; Beatrice\, NE&nbsp\;</span></b></div><div style="margin: 0in 0in 0pt" align="center"><b><span style="font-size: 20pt\; color: #3366ff">Tickets $10 for Adults &nbsp\;</span></b></div><div style="margin: 0in 0in 0pt" align="center"><b><span style="font-size: 20pt\; color: #3366ff">$6 for children 12 and under</span></b></div><div style="margin: 0in 0in 0pt" align="center">&nbsp\;<b><span style="font-size: 18pt\; color: #ff8a15">All Proceeds from the concert will go to Mother to Mother Ministries</span></b></div><div style="margin: 0in 0in 0pt" align="center"><b><span style="font-size: 18pt\; color: #00d200">This is a Christian family concert for all ages!</span></b></div><div style="margin: 0in 0in 0pt">&nbsp\;</div><div style="margin: 0in 0in 0pt" align="center"><b><span style="font-size: 22pt\; color: blue">Sponsored by Holy Cross Lutheran Church</span></b></div><div style="margin: 0in 0in 0pt" align="center"><b><span style="font-size: 14pt\; color: #ff9900">A grant from the Hevelone Foundation allows us to offer these reasonable ticket prices</span></b></div><div style="margin: 0in 0in 0pt" align="center"><b><span style="font-size: 14pt\; color: #00d200">A grant from Thrivent Care Abounds in Communities allows us to provide tickets for those served by Mother to Mother Ministries</span></b></div><div style="margin: 0in 0in 0pt" align="center"><b>&nbsp\;</b></div><div style="margin: 0in 0in 0pt" align="center"><b><span style="font-size: 22pt\; color: blue">Tickets are available at:</span></b></div><div style="margin: 0in 0in 0pt" align="center"><b><span style="font-size: 18pt\; color: red">Holy</span></b><b><span style="font-size: 18pt\; color: red"> Cross Lutheran Church</span></b></div><div style="margin: 0in 0in 0pt" align="center"><b><span style="font-size: 18pt\; color: red">Michelle Chenoweth</span></b><b><span style="font-size: 18pt\; color: red"> Insurance</span></b></div><div style="margin: 0in 0in 0pt" align="center"><b><span style="font-size: 18pt\; color: red">Deines Pharmacy</span></b></div><div style="margin: 0in 0in 0pt" align="center"><b><span style="font-size: 18pt\; color: red">Jefferson</span></b><b><span style="font-size: 18pt\; color: red"> Community Health Center</span></b><b><span style="font-size: 18pt\; color: red"> Business Office</span></b></div><div style="margin: 0in 0in 0pt" align="center"><b><span style="font-size: 18pt\; color: red">holycrossbeatrice.com</span></b></div></div>
LOCATION:
UID:e.41.1316
SEQUENCE:3
DTSTAMP:20260426T011827Z
URL:https://business.beatricechamber.com/events/details/go-fish-concert-08-09-2009-1316
END:VEVENT

END:VCALENDAR
