BEGIN:VCALENDAR
VERSION:2.0
PRODID:-//ChamberMaster//Event Calendar 2.0//EN
METHOD:PUBLISH
X-PUBLISHED-TTL:P3D
REFRESH-INTERVAL:P3D
CALSCALE:GREGORIAN
BEGIN:VEVENT
DTSTART;VALUE=DATE:20100613
DTEND;VALUE=DATE:20100614
TRANSP:TRANSPARENT
X-MICROSOFT-CDO-ALLDAYEVENT:TRUE
SUMMARY:GO FISH KIDS! 6/13/2010
DESCRIPTION:Nebraska Walleye Association GO FISH KIDS!Teaching Kids to Fish www.GoFishKids.org WHEN:  Sunday\, June 13\, 2010 WHERE:  Rockford Lake (Park Permit Required) CHECK-IN AND MEAL:  12:30 p.m. WORKSHOP:  1:00 p.m. FISHING:  After workshop This event is held in conjuction with the Beatrice Area Chamber.  To sign up for the clinic\, contact Beatrice Area Chamber of Commerce or email info@beatricechamber.com by June 10th\, 2010.  need to provide child's name\, parents name and phone number.  The workshop is free.  Hot dogs\, chips\, pop and water are included.  There is a limit of 100 kids.  Parents are encouraged to attend.  Sign-up early! Certified Aquatic Education Fishing Insturctors from n ebraska Walleye Association and Nebraska Game and Parks will be there to teach everything you want to know about fishing including casting\, knot tying\, bait\, tackle\, water safety and fish identification and anatomy.  All participants will get to fish the Lake and catch lots of fish! Event is sponsored by:   The Deocorating Center - 323 Court Street\, Beatrice\, NE\, 228-3985Beatrice Area Chamber of Commerce\, 205 N 4th Street\, Beatrice\, NE\, 223-2338MidlandsNebraska Walleye Association - www.nebraskawalleye.comCabela's: World's Foremost Outfitter - Hunting\, Fishing\, Outdoor GearNebraska Game & Parks Commission
X-ALT-DESC;FMTTYPE=text/html:<div style="text-align: center"><span style="font-size: small">Nebraska Walleye Association</span></div><div style="text-align: center">&nbsp\;</div><div style="text-align: center"><span style="color: #339966"><strong><span style="font-size: large"><span style="font-family: Comic Sans MS">GO&nbsp\;FISH&nbsp\;KIDS!</span></span></strong></span></div><div style="text-align: center"><span style="color: #339966"><strong><span style="font-size: large"><span style="font-family: Comic Sans MS">Teaching Kids to Fish</span></span></strong></span></div><div style="text-align: center">&nbsp\;</div><div style="text-align: center"><a href="http://www.GoFishKids.org"><span style="font-size: small">www.GoFishKids.org</span></a></div><div style="text-align: center">&nbsp\;</div><div style="text-align: center"><strong><span style="font-size: small">WHEN:&nbsp\; Sunday\, June 13\, 2010</span></strong></div><div style="text-align: center">&nbsp\;</div><div style="text-align: center"><strong><span style="font-size: small">WHERE:&nbsp\; Rockford Lake (Park Permit Required)</span></strong></div><div style="text-align: center">&nbsp\;</div><div style="text-align: center"><strong><span style="font-size: small">CHECK-IN AND MEAL:&nbsp\; 12:30 p.m.</span></strong></div><div style="text-align: center">&nbsp\;</div><div style="text-align: center"><strong><span style="font-size: small">WORKSHOP:&nbsp\; 1:00 p.m.</span></strong></div><div style="text-align: center">&nbsp\;</div><div style="text-align: center"><strong><span style="font-size: small">FISHING: &nbsp\;After workshop</span></strong></div><div style="text-align: center">&nbsp\;</div><div style="text-align: justify"><span style="font-family: Times New Roman"><span style="font-size: small">This event is held in conjuction with the Beatrice Area Chamber. &nbsp\;To sign up for the clinic\, contact Beatrice Area Chamber of Commerce or email </span></span><a href="mailto:info@beatricechamber.com"><span style="font-family: Times New Roman"><span style="font-size: small">info@beatricechamber.com</span></span></a><span style="font-family: Times New Roman"><span style="font-size: small"> by June 10th\, 2010.&nbsp\; need to provide child&rsquo\;s name\, parents name and phone number.&nbsp\; The workshop is free. &nbsp\;Hot dogs\, chips\, pop and water are included.&nbsp\; There is a limit of 100 kids.&nbsp\; Parents are encouraged to attend. &nbsp\;Sign-up early!</span></span></div><div style="text-align: justify">&nbsp\;</div><div style="text-align: justify"><span style="font-family: Times New Roman"><span style="font-size: small">Certified Aquatic Education Fishing Insturctors from&nbsp\;n ebraska Walleye Association and Nebraska Game and Parks will be there to teach everything you want to know about fishing including casting\, knot tying\, bait\, tackle\, water safety and fish identification and anatomy.&nbsp\; All participants will get to fish the Lake and catch lots of fish!</span></span></div><div style="text-align: justify">&nbsp\;</div><div style="text-align: justify"><span style="font-family: Times New Roman"><span style="font-size: small">Event is sponsored by:&nbsp\;&nbsp\;</span></span></div><div style="text-align: justify">&nbsp\;</div><div style="text-align: justify"><span style="font-family: Times New Roman"><span style="font-size: small">The Deocorating Center - 323 Court Street\, Beatrice\, NE\, 228-3985</span></span></div><div style="text-align: justify"><span style="font-family: Times New Roman"><span style="font-size: small">Beatrice Area Chamber of Commerce\, 205 N 4th Street\, Beatrice\, NE\, 223-2338</span></span></div><div style="text-align: justify"><span style="font-family: Times New Roman"><span style="font-size: small">Midlands</span></span></div><div style="text-align: justify"><span style="font-family: Times New Roman"><span style="font-size: small">Nebraska Walleye Association - <a href="http://www.nebraskawalleye.com">www.nebraskawalleye.com</a></span></span></div><div style="text-align: justify"><span style="font-family: Times New Roman"><span style="font-size: small">Cabela's: World's Foremost Outfitter - Hunting\, Fishing\, Outdoor Gear</span></span></div><div style="text-align: justify"><span style="font-family: Times New Roman"><span style="font-size: small">Nebraska Game &amp\;&nbsp\;Parks Commission</span></span></div><div style="text-align: justify">&nbsp\;</div><div style="text-align: justify">&nbsp\;</div><div style="text-align: center">&nbsp\;</div>
LOCATION:Rockford Lake (Park Permit Required)East Side New Campgrounds. WATCH FOR SIGNS!
UID:e.41.1946
SEQUENCE:3
DTSTAMP:20260425T105554Z
URL:https://business.beatricechamber.com/events/details/go-fish-kids-6-13-2010-06-13-2010-1946
END:VEVENT

END:VCALENDAR
