BEGIN:VCALENDAR
VERSION:2.0
PRODID:-//ChamberMaster//Event Calendar 2.0//EN
METHOD:PUBLISH
X-PUBLISHED-TTL:P3D
REFRESH-INTERVAL:P3D
CALSCALE:GREGORIAN
BEGIN:VEVENT
DTSTART:20110430T120000Z
DTEND:20110430T200000Z
X-MICROSOFT-CDO-ALLDAYEVENT:FALSE
SUMMARY:Go Garage Sale-ing With The Girl Scouts!
DESCRIPTION:Senior Troop 68 fundraiser garage sale. Indoor/Outdoor multiple family sale. Books\, kitchen accessories\, toys\, clothes (name brand girls/women\, all sizes)\n\n* Donations are appreciated\; we will pick up if needed!
X-ALT-DESC;FMTTYPE=text/html:Senior Troop 68 fundraiser garage sale. Indoor/Outdoor multiple family sale. Books\, kitchen accessories\, toys\, clothes (name brand girls/women\, all sizes)<br />\n* Donations are appreciated\; we will pick up if needed!
LOCATION:2320 N. 6th located behind the old cafe 77 off highway 77 (next to Econo Lodge)
UID:e.41.4577
SEQUENCE:3
DTSTAMP:20260424T195520Z
URL:https://business.beatricechamber.com/events/details/go-garage-sale-ing-with-the-girl-scouts-04-30-2011-4577
END:VEVENT

END:VCALENDAR
