BEGIN:VCALENDAR
VERSION:2.0
PRODID:-//ChamberMaster//Event Calendar 2.0//EN
METHOD:PUBLISH
X-PUBLISHED-TTL:P3D
REFRESH-INTERVAL:P3D
CALSCALE:GREGORIAN
BEGIN:VEVENT
DTSTART;VALUE=DATE:20110713
DTEND;VALUE=DATE:20110714
TRANSP:TRANSPARENT
X-MICROSOFT-CDO-ALLDAYEVENT:TRUE
SUMMARY:Godfather's Pizza Grand Opening
DESCRIPTION:Wednesday July 13\, Godfather's Pizza will be having their Grand Opening.  Located at 556 Sargent St.\, Beatrice (next to Southwick Chiropractic).  Their hours are Sun-Thur: 11 a.m.-10 p.m.\; Fri & Sat: 11 a.m.-11 p.m.  Buffet: 11 a.m.-2 p.m.  You can contact Godfather's Pizza at 402-806-4406.
X-ALT-DESC;FMTTYPE=text/html:Wednesday July 13\, Godfather&#39\;s Pizza will be having their Grand Opening.&nbsp\; Located at 556 Sargent St.\, Beatrice (next to Southwick Chiropractic).&nbsp\; Their hours are Sun-Thur: 11 a.m.-10 p.m.\; Fri &amp\; Sat: 11 a.m.-11 p.m.&nbsp\; Buffet: 11 a.m.-2 p.m.&nbsp\; You can contact Godfather&#39\;s Pizza at 402-806-4406.
LOCATION:
UID:e.41.4957
SEQUENCE:3
DTSTAMP:20260424T155153Z
URL:https://business.beatricechamber.com/events/details/godfather-s-pizza-grand-opening-07-13-2011-4957
END:VEVENT

END:VCALENDAR
