BEGIN:VCALENDAR
VERSION:2.0
PRODID:-//ChamberMaster//Event Calendar 2.0//EN
METHOD:PUBLISH
X-PUBLISHED-TTL:P3D
REFRESH-INTERVAL:P3D
CALSCALE:GREGORIAN
BEGIN:VEVENT
DTSTART:20101211T190000Z
DTEND:20101211T220000Z
X-MICROSOFT-CDO-ALLDAYEVENT:FALSE
SUMMARY:"Gold Party with a Twist"
DESCRIPTION:There will be an open house Saturday from 1-4 p.m. at our Savior's Lutheran Churchin Wymore. Gather all old\, unwanted\, broken gold and silver and have it tested and weighed\, and get paid on the spot.
X-ALT-DESC;FMTTYPE=text/html:<strong>There will be an open house Saturday from 1-4 p.m. at our Savior&#39\;s Lutheran Churchin Wymore. Gather all old\, unwanted\, broken gold and silver and have it tested and weighed\, and get paid on the spot.</strong>
LOCATION:
UID:e.41.2895
SEQUENCE:3
DTSTAMP:20260425T014400Z
URL:https://business.beatricechamber.com/events/details/gold-party-with-a-twist-12-11-2010-2895
END:VEVENT

END:VCALENDAR
