BEGIN:VCALENDAR
VERSION:2.0
PRODID:-//ChamberMaster//Event Calendar 2.0//EN
METHOD:PUBLISH
X-PUBLISHED-TTL:P3D
REFRESH-INTERVAL:P3D
CALSCALE:GREGORIAN
BEGIN:VEVENT
DTSTART;VALUE=DATE:20110210
DTEND;VALUE=DATE:20110211
TRANSP:TRANSPARENT
X-MICROSOFT-CDO-ALLDAYEVENT:TRUE
SUMMARY:Golden Eagle Casino Trip with Security First Bank
DESCRIPTION:Golden Eagle Casino Trip\n\nwith Security First Bank (member FDIC)\n\n\n\nThursday\, February 10th\n\nBus will leave at 7:30 a.m. and arrives back by 5 p.m.\n\n\n\nCost:  $20 per person\n\nJoin the group & get a $10 voucher\n\n\n\nCall Verdella Vetrovsky at 223-4041 for reservations or questions.
X-ALT-DESC;FMTTYPE=text/html:Golden Eagle Casino Trip<br />\nwith Security First Bank (member FDIC)<br />\n<br />\nThursday\, February 10th<br />\nBus will leave at 7:30 a.m. and arrives back by 5 p.m.<br />\n<br />\nCost:&nbsp\; $20 per person<br />\nJoin the group &amp\; get a $10 voucher<br />\n<br />\nCall Verdella Vetrovsky at 223-4041 for reservations or questions.<br />\n<br />\n
LOCATION:
UID:e.41.3291
SEQUENCE:3
DTSTAMP:20260424T225744Z
URL:https://business.beatricechamber.com/events/details/golden-eagle-casino-trip-with-security-first-bank-02-10-2011-3291
END:VEVENT

END:VCALENDAR
