BEGIN:VCALENDAR
VERSION:2.0
PRODID:-//ChamberMaster//Event Calendar 2.0//EN
METHOD:PUBLISH
X-PUBLISHED-TTL:P3D
REFRESH-INTERVAL:P3D
CALSCALE:GREGORIAN
BEGIN:VEVENT
DTSTART;VALUE=DATE:20120615
DTEND;VALUE=DATE:20120616
TRANSP:TRANSPARENT
X-MICROSOFT-CDO-ALLDAYEVENT:TRUE
SUMMARY:Golf Outing
DESCRIPTION:Beatrice Education Foundation Golf Tournament\n				\n					Gather your friends and alumni and join us for a wonderful afternoon of golf. The event will be a four person scramble held at the Beatrice Country Club on June\, 15th. \n				\n					Shotgun is at 1pm.\n				\n					For sponsorship opportunities and individual/team sign up contact John Brazell at \n				jbrazell@bpsnebr.org or 402-223-1500\n\n				\n\n				\n					To donate pin prizes contact Lisa Pieper at  LPieper@bpsne.org or 402-223-3747
X-ALT-DESC;FMTTYPE=text/html:<p>\n	&nbsp\;</p>\n<table bgcolor="#cbcbcb" border="0" cellpadding="5" cellspacing="0" id="yiv1499855905content_LETTER.BLOCK57" style="background-color: rgb(203\,203\,203)\; margin-bottom: 6px" width="100%">\n	<tbody id="yui_3_2_0_1_1329762271375267">\n		<tr id="yui_3_2_0_1_1329762271375266">\n			<td align="left" id="yui_3_2_0_1_1329762271375265" style="text-align: left\; font-family: arial\, helvetica\, sans-serif\; color: #000000\; font-size: 10pt">\n				<div style="border-bottom: #99001a 1px solid\; font-family: arial\, helvetica\, sans-serif\; color: #800000\; border-right-color: #99001a\; font-size: 12pt\; border-left-color: #99001a\; border-top: #99001a 1px solid">\n					<b>Beatrice Education Foundation Golf Tournament</b></div>\n				<div style="color: #000000">\n					<span style="font-family: palatino\; font-size: 12pt">Gather your friends and alumni and join us for a wonderful afternoon of golf. The event will be a four person scramble held at the Beatrice Country Club on June\, 15th.&nbsp\;</span></div>\n				<div style="color: #000000">\n					<span style="font-family: palatino\; font-size: 12pt">Shotgun is at 1pm.</span></div>\n				<div style="color: #000000">\n					<span style="font-family: palatino\; font-size: 12pt">For sponsorship opportunities and individual/team sign up contact John Brazell at&nbsp\;</span></div>\n				<span style="color: #800000"><a href="http://undefined/" rel="nofollow" shape="rect" style="color: rgb(128\,0\,0)\; text-decoration: underline" target="_blank">jbrazell@bpsnebr.org</a>&nbsp\;<span style="font-family: palatino\; color: #000000\; font-size: 12pt">or 402-223-1500</span></span><br />\n				<br />\n				<div style="color: #000000">\n					<span style="font-family: palatino\; font-size: 12pt">To donate pin prizes contact Lisa Pieper at &nbsp\;</span><a href="http://undefined/" rel="nofollow" shape="rect" style="color: rgb(128\,0\,0)\; text-decoration: underline" target="_blank">LPieper@bpsne.org</a>&nbsp\;<span style="font-family: palatino\; font-size: 12pt">or 402-223-3747</span></div>\n			</td>\n		</tr>\n	</tbody>\n</table>\n
LOCATION:
UID:e.41.5360
SEQUENCE:3
DTSTAMP:20260422T125900Z
URL:https://business.beatricechamber.com/events/details/golf-outing-06-15-2012-5360
END:VEVENT

END:VCALENDAR
