BEGIN:VCALENDAR
VERSION:2.0
PRODID:-//ChamberMaster//Event Calendar 2.0//EN
METHOD:PUBLISH
X-PUBLISHED-TTL:P3D
REFRESH-INTERVAL:P3D
CALSCALE:GREGORIAN
BEGIN:VEVENT
DTSTART:20090801T130000Z
DTEND:20090801T190000Z
X-MICROSOFT-CDO-ALLDAYEVENT:FALSE
SUMMARY:Golf Tournament - Diller Odell
DESCRIPTION:Friends of Griffins Athletics will host a golf tournament onSaturday\, August 1st atWymore County Club.Registration begins at 8:00 amTee Times starting at 9:00 am Tournament will be an 18 hole\, Four person scramble with a shotgun start.Fees - $50 per person\, $200 per team - Includes green fees\, gifts\, prizes & lunchProceeds will benefit the Diller-Odell Public Schools Athletic Department For more information call Paul Stanoshek 402-766-3720 (from 9am - 4 pm)or 402-766-4494 in the evenings or email golf@diodecom.net
X-ALT-DESC;FMTTYPE=text/html:<div>Friends of Griffins Athletics will host a golf tournament on</div><div>Saturday\, August 1st at</div><div>Wymore County Club.</div><div>Registration begins at 8:00 am</div><div>Tee Times starting at 9:00 am</div><div>&nbsp\;</div><div>Tournament will be an 18 hole\, Four person scramble with a shotgun start.</div><div>Fees - $50 per person\, $200 per team - Includes green fees\, gifts\, prizes &amp\; lunch</div><div>Proceeds will benefit the Diller-Odell Public Schools Athletic Department</div><div>&nbsp\;</div><div>For more information call Paul Stanoshek 402-766-3720 (from 9am&nbsp\;- 4 pm)</div><div>or 402-766-4494 in the evenings or email <a href="mailto:golf@diodecom.net">golf@diodecom.net</a></div><div>&nbsp\;</div>
LOCATION:
UID:e.41.1320
SEQUENCE:3
DTSTAMP:20260426T011926Z
URL:https://business.beatricechamber.com/events/details/golf-tournament-diller-odell-08-01-2009-1320
END:VEVENT

END:VCALENDAR
