BEGIN:VCALENDAR
VERSION:2.0
PRODID:-//ChamberMaster//Event Calendar 2.0//EN
METHOD:PUBLISH
X-PUBLISHED-TTL:P3D
REFRESH-INTERVAL:P3D
CALSCALE:GREGORIAN
BEGIN:VEVENT
DTSTART;VALUE=DATE:20111008
DTEND;VALUE=DATE:20111009
TRANSP:TRANSPARENT
X-MICROSOFT-CDO-ALLDAYEVENT:TRUE
SUMMARY:"Gone with the Wind: The Making of a Legend"
DESCRIPTION:"Gone with the Wind: The Making of a Legend"\n\nCommunity Players free community conversations\n\n\n\nOctober 8\n\n10 am\n\n\n\nCP Theater\, 412 Ella Street\, Beatrice\, NE  68310\n\n\n\nRelating to the upcoming presentation of "Moonlight and Magnolias" that runs October 21-23 and 28-30.\n\n\n\n402-228-1801\n\nwww.beatricecommunityplayers.com
X-ALT-DESC;FMTTYPE=text/html:&quot\;Gone with the Wind: The Making of a Legend&quot\;<br />\nCommunity Players free community conversations<br />\n<br />\nOctober 8<br />\n10 am<br />\n<br />\nCP Theater\, 412 Ella Street\, Beatrice\, NE&nbsp\; 68310<br />\n<br />\nRelating to the upcoming presentation of &quot\;Moonlight and Magnolias&quot\; that runs October 21-23 and 28-30.<br />\n<br />\n402-228-1801<br />\nwww.beatricecommunityplayers.com<br />\n<br />\n<br />\n
LOCATION:
UID:e.41.5170
SEQUENCE:3
DTSTAMP:20260424T111529Z
URL:https://business.beatricechamber.com/events/details/gone-with-the-wind-the-making-of-a-legend-10-08-2011-5170
END:VEVENT

END:VCALENDAR
