BEGIN:VCALENDAR
VERSION:2.0
PRODID:-//ChamberMaster//Event Calendar 2.0//EN
METHOD:PUBLISH
X-PUBLISHED-TTL:P3D
REFRESH-INTERVAL:P3D
CALSCALE:GREGORIAN
BEGIN:VEVENT
DTSTART:20110827T160000Z
DTEND:20110827T220000Z
X-MICROSOFT-CDO-ALLDAYEVENT:FALSE
SUMMARY:Gracie Schultz Benefit
DESCRIPTION:11 a.m.-5 p.m.\, games for children under the Chautauqua Park Tabernacle\, Beatrice.  Music and food.  Raffle tickets will be sold with prizes donated by local businesses. \n\n\n\nFor more information or to donate prizes for the games\, call 402-230-1256. \n\n\n\nGracie Schultz\, daughter of Jessica Schultz and Steve McCarthy of Beatrice and Jason Schultz of Humboldt\, has an inoperable brain tumor.
X-ALT-DESC;FMTTYPE=text/html:11 a.m.-5 p.m.\, games for children under the Chautauqua Park Tabernacle\, Beatrice.&nbsp\; Music and food.&nbsp\; Raffle tickets will be sold with prizes donated by local businesses.&nbsp\;<br />\n<br />\nFor more information or to donate prizes for the games\, call 402-230-1256.&nbsp\;<br />\n<br />\nGracie Schultz\, daughter of Jessica Schultz and Steve McCarthy of Beatrice and Jason Schultz of Humboldt\, has an inoperable brain tumor.
LOCATION:
UID:e.41.5053
SEQUENCE:3
DTSTAMP:20260424T135059Z
URL:https://business.beatricechamber.com/events/details/gracie-schultz-benefit-08-27-2011-5053
END:VEVENT

END:VCALENDAR
