BEGIN:VCALENDAR
VERSION:2.0
PRODID:-//ChamberMaster//Event Calendar 2.0//EN
METHOD:PUBLISH
X-PUBLISHED-TTL:P3D
REFRESH-INTERVAL:P3D
CALSCALE:GREGORIAN
BEGIN:VEVENT
DTSTART:20101120T200000Z
DTEND:20101120T230000Z
X-MICROSOFT-CDO-ALLDAYEVENT:FALSE
SUMMARY:Grade School Carnival
DESCRIPTION:429 Factory Grade School Carnival:\n\n\n\nSaturday\, November 20th\n\n\n\n2:00pm - 5:00pm\n\n\n\nAdmission: 1 canned good per family- will be donated to Community Food Pantry\n\n\n\n$.50 Games\, Face Painting\, Bounce House & More!
X-ALT-DESC;FMTTYPE=text/html:<strong><span style="font-size: 14px">429 Factory Grade School Carnival:</span></strong><br />\n<br />\nSaturday\, November 20th<br />\n<br />\n2:00pm - 5:00pm<br />\n<br />\nAdmission: 1 canned good per family- will be donated to Community Food Pantry<br />\n<br />\n$.50 Games\, Face Painting\, Bounce House &amp\; More!
LOCATION:
UID:e.41.2839
SEQUENCE:3
DTSTAMP:20260425T032505Z
URL:https://business.beatricechamber.com/events/details/grade-school-carnival-11-20-2010-2839
END:VEVENT

END:VCALENDAR
