BEGIN:VCALENDAR
VERSION:2.0
PRODID:-//ChamberMaster//Event Calendar 2.0//EN
METHOD:PUBLISH
X-PUBLISHED-TTL:P3D
REFRESH-INTERVAL:P3D
CALSCALE:GREGORIAN
BEGIN:VEVENT
DTSTART:20090913T190000Z
DTEND:20090913T200000Z
X-MICROSOFT-CDO-ALLDAYEVENT:FALSE
SUMMARY:Grand Blooming at Grace Gardens
DESCRIPTION:Celebrate the Grand Blooming of Grace Gardens onSunday\, September 13th at 2:00 pm600 S 22nd StJust south of the Villa at Flowing Springs Cake & Refreshments will be served following the program. 402-228-8541 or ssands@good-sam.com
X-ALT-DESC;FMTTYPE=text/html:<div>Celebrate the Grand Blooming of Grace Gardens on</div><div>Sunday\, September 13th at 2:00 pm</div><div>600 S 22nd St</div><div>Just south of the Villa at Flowing Springs</div><div>&nbsp\;</div><div>Cake &amp\;&nbsp\;Refreshments will be served following the program.</div><div>&nbsp\;</div><div>402-228-8541 or <a href="mailto:ssands@good-sam.com">ssands@good-sam.com</a></div>
LOCATION:
UID:e.41.1386
SEQUENCE:3
DTSTAMP:20260425T233936Z
URL:https://business.beatricechamber.com/events/details/grand-blooming-at-grace-gardens-09-13-2009-1386
END:VEVENT

END:VCALENDAR
