BEGIN:VCALENDAR
VERSION:2.0
PRODID:-//ChamberMaster//Event Calendar 2.0//EN
METHOD:PUBLISH
X-PUBLISHED-TTL:P3D
REFRESH-INTERVAL:P3D
CALSCALE:GREGORIAN
BEGIN:VEVENT
DTSTART:20100410T190000Z
DTEND:20100410T220000Z
X-MICROSOFT-CDO-ALLDAYEVENT:FALSE
SUMMARY:GRAND OPENING
DESCRIPTION:Grand opening of Reflections of Soul Dance Studio.\n\nYou are welcome to come and meet the teaching staff and learn about our dance program.  A mini dance class for both children & adults will be held at 4PM.  There will also be a Middle Eastern Dance demonstration & mini class @ 4:30PM. Sign up for summer dance camp & classes or register for fall dance.  Come check us out!
X-ALT-DESC;FMTTYPE=text/html:Grand opening of Reflections of Soul Dance Studio.\n<br>You are welcome to come and meet the teaching staff and learn about our dance program.  A mini dance class for both children &amp\; adults will be held at 4PM.  There will also be a Middle Eastern Dance demonstration &amp\; mini class @ 4:30PM. Sign up for summer dance camp &amp\; classes or register for fall dance.  Come check us out!
LOCATION:118 North 7th Street
UID:e.41.1642
SEQUENCE:3
DTSTAMP:20260425T135226Z
URL:https://business.beatricechamber.com/events/details/grand-opening-04-10-2010-1642
END:VEVENT

END:VCALENDAR
