BEGIN:VCALENDAR
VERSION:2.0
PRODID:-//ChamberMaster//Event Calendar 2.0//EN
METHOD:PUBLISH
X-PUBLISHED-TTL:P3D
REFRESH-INTERVAL:P3D
CALSCALE:GREGORIAN
BEGIN:VEVENT
DTSTART:20110521T160000Z
DTEND:20110521T180000Z
X-MICROSOFT-CDO-ALLDAYEVENT:FALSE
SUMMARY:Grand Opening at Inline Healing
DESCRIPTION:Stop by and help Inline Healing celebrate its grand opening in Beatrice! Free hot dogs\, chips\, and beverages will be provided\, along with a moon bounce house\, face painting\, and other children's games. KUTT will be having a live remote from Inline Healing with a Cash Wheel and other prizes. If you attend the event\, you are eligible for a free new patient Chiropractic OR Acupuncture exam!!
X-ALT-DESC;FMTTYPE=text/html:Stop by and help Inline Healing celebrate its grand opening in Beatrice! Free hot dogs\, chips\, and beverages will be provided\, along with a moon bounce house\, face painting\, and other children's games. KUTT will be having a live remote from Inline Healing with a Cash Wheel and other prizes. If you attend the event\, you are eligible for a free new patient Chiropractic OR Acupuncture exam!!
LOCATION:Inline Healing 223 S. 6th St. Beatrice\, NE
UID:e.41.4570
SEQUENCE:3
DTSTAMP:20260424T182354Z
URL:https://business.beatricechamber.com/events/details/grand-opening-at-inline-healing-05-21-2011-4570
END:VEVENT

END:VCALENDAR
