BEGIN:VCALENDAR
VERSION:2.0
PRODID:-//ChamberMaster//Event Calendar 2.0//EN
METHOD:PUBLISH
X-PUBLISHED-TTL:P3D
REFRESH-INTERVAL:P3D
CALSCALE:GREGORIAN
BEGIN:VEVENT
DTSTART;VALUE=DATE:20120906
DTEND;VALUE=DATE:20120909
TRANSP:TRANSPARENT
X-MICROSOFT-CDO-ALLDAYEVENT:TRUE
SUMMARY:Grand Re-Opening Dee's Hallmark
DESCRIPTION:Register to win a Husker Digital Clock\, Free gifts with purchase( while supplies last)\n\nDiscounts and Specials
X-ALT-DESC;FMTTYPE=text/html:Register to win a Husker Digital Clock\, Free gifts with purchase( while supplies last)<br />\nDiscounts and Specials<br />\n
LOCATION:
UID:e.41.6635
SEQUENCE:3
DTSTAMP:20260422T090931Z
URL:https://business.beatricechamber.com/events/details/grand-re-opening-dee-s-hallmark-09-06-2012-6635
END:VEVENT

END:VCALENDAR
