BEGIN:VCALENDAR
VERSION:2.0
PRODID:-//ChamberMaster//Event Calendar 2.0//EN
METHOD:PUBLISH
X-PUBLISHED-TTL:P3D
REFRESH-INTERVAL:P3D
CALSCALE:GREGORIAN
BEGIN:VEVENT
DTSTART;VALUE=DATE:20100311
DTEND;VALUE=DATE:20100312
TRANSP:TRANSPARENT
X-MICROSOFT-CDO-ALLDAYEVENT:TRUE
SUMMARY:Grand Reopening! Bargain Box
DESCRIPTION:Grand Reopening!The Bargain Box(south 5th Street\, Beatrice) Open house will be held during regular store hours: Thursday\, March 11 9:30 am - 6 pm Saturday\, March 139:30 am - 1 pm
X-ALT-DESC;FMTTYPE=text/html:<div><span style="font-size: small">Grand Reopening!</span></div><div><span style="font-size: small">The Bargain Box</span></div><div>(south 5th Street\, Beatrice)</div><div>&nbsp\;</div><div>Open house will be held during regular store hours:&nbsp\;</div><div>Thursday\, March 11</div><div>&nbsp\;9:30 am - 6 pm</div><div>&nbsp\;</div><div>Saturday\, March 13</div><div>9:30 am - 1 pm</div>
LOCATION:
UID:e.41.1669
SEQUENCE:3
DTSTAMP:20260425T153055Z
URL:https://business.beatricechamber.com/events/details/grand-reopening-bargain-box-03-11-2010-1669
END:VEVENT

END:VCALENDAR
