BEGIN:VCALENDAR
VERSION:2.0
PRODID:-//ChamberMaster//Event Calendar 2.0//EN
METHOD:PUBLISH
X-PUBLISHED-TTL:P3D
REFRESH-INTERVAL:P3D
CALSCALE:GREGORIAN
BEGIN:VEVENT
DTSTART;VALUE=DATE:20120322
DTEND;VALUE=DATE:20120323
TRANSP:TRANSPARENT
X-MICROSOFT-CDO-ALLDAYEVENT:TRUE
SUMMARY:Grand View University Choir from Des Moines\, IA
DESCRIPTION:Grand View University Choir from Des Moines\, IA\n\nThursday\, March 22\n\n7 pm\n\n\n\nSt. John Lutheran Church\n\n701 N 6th Street\, Beatrice\n\n\n\nProgram consists of choral masterpieces from the 13th century to the present\, focusing on hope and new life.
X-ALT-DESC;FMTTYPE=text/html:Grand View University Choir from Des Moines\, IA<br />\nThursday\, March 22<br />\n7 pm<br />\n<br />\nSt. John Lutheran Church<br />\n701 N 6th Street\, Beatrice<br />\n<br />\nProgram consists of choral masterpieces from the 13th century to the present\, focusing on hope and new life.
LOCATION:
UID:e.41.5428
SEQUENCE:3
DTSTAMP:20260422T173203Z
URL:https://business.beatricechamber.com/events/details/grand-view-university-choir-from-des-moines-ia-03-22-2012-5428
END:VEVENT

END:VCALENDAR
