BEGIN:VCALENDAR
VERSION:2.0
PRODID:-//ChamberMaster//Event Calendar 2.0//EN
METHOD:PUBLISH
X-PUBLISHED-TTL:P3D
REFRESH-INTERVAL:P3D
CALSCALE:GREGORIAN
BEGIN:VEVENT
DTSTART;VALUE=DATE:20120320
DTEND;VALUE=DATE:20120321
TRANSP:TRANSPARENT
X-MICROSOFT-CDO-ALLDAYEVENT:TRUE
SUMMARY:Grand View University Choir in Concert
DESCRIPTION:Grand View University Choir in Concert\n\nAs part of its spring 2012 tour through Iowa\, Nebraska\, Missouri and Minnesota.\n\n\n\nTuesday\, March 20\n\n7 pm\n\n\n\nSt. John Lutheran Church in Beatrice
X-ALT-DESC;FMTTYPE=text/html:Grand View University Choir in Concert<br />\nAs part of its spring 2012 tour through Iowa\, Nebraska\, Missouri and Minnesota.<br />\n<br />\nTuesday\, March 20<br />\n7 pm<br />\n<br />\nSt. John Lutheran Church in Beatrice<br />\n<br />\n
LOCATION:
UID:e.41.5400
SEQUENCE:3
DTSTAMP:20260422T173322Z
URL:https://business.beatricechamber.com/events/details/grand-view-university-choir-in-concert-03-20-2012-5400
END:VEVENT

END:VCALENDAR
