BEGIN:VCALENDAR
VERSION:2.0
PRODID:-//ChamberMaster//Event Calendar 2.0//EN
METHOD:PUBLISH
X-PUBLISHED-TTL:P3D
REFRESH-INTERVAL:P3D
CALSCALE:GREGORIAN
BEGIN:VEVENT
DTSTART:20100210T143000Z
DTEND:20100210T163000Z
X-MICROSOFT-CDO-ALLDAYEVENT:FALSE
SUMMARY:Grant workshop
DESCRIPTION:GRANT WORKSHOP Wednesday\, February 10\, 20108:30 a.m. - 10:30 a.m.Valentino's Restaurant701 Court StBeatrice\, NE   Free workshop designed to advise business owners how they can tap into grant money or use tax incentives to help their business grow! Continental breakfast will be provided.  Check-in begins at 8 a.m. Participants must register by Monday\, February 8.Contact:  Kelly Morgan at 228-8244\, 1-800-828-0072 ext 1244 or email kmorgan@southeast.edu
X-ALT-DESC;FMTTYPE=text/html:<div><span style="font-size: medium">GRANT&nbsp\;WORKSHOP</span></div><div>&nbsp\;</div><div><span style="font-size: small">Wednesday\, February 10\, 2010</span></div><div><span style="font-size: small">8:30 a.m. - 10:30 a.m.</span></div><div><span style="font-size: small">Valentino's Restaurant</span></div><div><span style="font-size: small">701 Court St</span></div><div><span style="font-size: small">Beatrice\, NE&nbsp\; </span></div><div>&nbsp\;</div><div><span style="font-size: medium">Free workshop designed to advise business owners how they can tap into grant money or use tax incentives to help their business grow!</span></div><div>&nbsp\;</div><div><span style="font-size: small">Continental breakfast will be provided.&nbsp\; Check-in begins at 8 a.m.</span></div><div>&nbsp\;</div><div><span style="font-size: small">Participants must register by Monday\,&nbsp\;February 8.</span></div><div><span style="font-size: small">Contact:&nbsp\; Kelly Morgan at 228-8244\, 1-800-828-0072 ext 1244 or email </span><a href="mailto:kmorgan@southeast.edu"><span style="font-size: small">kmorgan@southeast.edu</span></a></div><div>&nbsp\;</div>
LOCATION:
UID:e.41.1617
SEQUENCE:3
DTSTAMP:20260425T164258Z
URL:https://business.beatricechamber.com/events/details/grant-workshop-02-10-2010-1617
END:VEVENT

END:VCALENDAR
