BEGIN:VCALENDAR
VERSION:2.0
PRODID:-//ChamberMaster//Event Calendar 2.0//EN
METHOD:PUBLISH
X-PUBLISHED-TTL:P3D
REFRESH-INTERVAL:P3D
CALSCALE:GREGORIAN
BEGIN:VEVENT
DTSTART;VALUE=DATE:20101106
DTEND;VALUE=DATE:20101107
TRANSP:TRANSPARENT
X-MICROSOFT-CDO-ALLDAYEVENT:TRUE
SUMMARY:"Grease\," the musical
DESCRIPTION:"Grease\," the musical: \n\n\n\n7p.m.\, Hevelone Center for Performing Arts\, Beatrice High School.\n\n\n\nAdults\, $6\; students\, $4 (no passes accepted)
X-ALT-DESC;FMTTYPE=text/html:<strong><span style="font-size: 14px">&quot\;Grease\,&quot\; the musical: </span></strong><br />\n<br />\n7p.m.\, Hevelone Center for Performing Arts\, Beatrice High School.<br />\n<br />\nAdults\, $6\; students\, $4 (no passes accepted)
LOCATION:
UID:e.41.2795
SEQUENCE:3
DTSTAMP:20260425T032510Z
URL:https://business.beatricechamber.com/events/details/grease-the-musical-11-06-2010-2795
END:VEVENT

END:VCALENDAR
