BEGIN:VCALENDAR
VERSION:2.0
PRODID:-//ChamberMaster//Event Calendar 2.0//EN
METHOD:PUBLISH
X-PUBLISHED-TTL:P3D
REFRESH-INTERVAL:P3D
CALSCALE:GREGORIAN
BEGIN:VEVENT
DTSTART:20110410T160000Z
DTEND:20110410T180000Z
X-MICROSOFT-CDO-ALLDAYEVENT:FALSE
SUMMARY:Grilled Pork Loin Dinner
DESCRIPTION:St. Mary's Catholic Church\, Odell.\n\n\n\nCost: $7 for adults\; $3.50 for Children ages 12 and younger\; preschool admitted free. Raffle.
X-ALT-DESC;FMTTYPE=text/html:St. Mary&#39\;s Catholic Church\, Odell.<br />\n<br />\nCost: $7 for adults\; $3.50 for Children ages 12 and younger\; preschool admitted free. Raffle.
LOCATION:
UID:e.41.4560
SEQUENCE:3
DTSTAMP:20260424T195137Z
URL:https://business.beatricechamber.com/events/details/grilled-pork-loin-dinner-04-10-2011-4560
END:VEVENT

END:VCALENDAR
