BEGIN:VCALENDAR
VERSION:2.0
PRODID:-//ChamberMaster//Event Calendar 2.0//EN
METHOD:PUBLISH
X-PUBLISHED-TTL:P3D
REFRESH-INTERVAL:P3D
CALSCALE:GREGORIAN
BEGIN:VEVENT
DTSTART;VALUE=DATE:20111006
DTEND;VALUE=DATE:20111007
TRANSP:TRANSPARENT
X-MICROSOFT-CDO-ALLDAYEVENT:TRUE
SUMMARY:Ground Breaking Ceremony: Good Samaritan Society
DESCRIPTION:Ground Breaking Ceremony: Good Samaritan Society\, Beatrice\n\n\n\nThursday\, October 6\n\n401 S 22nd Street\n\nBeatrice\, NE  68310\n\n\n\nLight Hors D'oeurves at 3:30 pm\n\nProgram beginning at 4 pm\n\nGround Breaking at 4:30 pm
X-ALT-DESC;FMTTYPE=text/html:Ground Breaking Ceremony: Good Samaritan Society\, Beatrice<br />\n<br />\nThursday\, October 6<br />\n401 S 22nd Street<br />\nBeatrice\, NE&nbsp\; 68310<br />\n<br />\nLight Hors D&#39\;oeurves at 3:30 pm<br />\nProgram beginning at 4 pm<br />\nGround Breaking at 4:30 pm<br />\n
LOCATION:
UID:e.41.5171
SEQUENCE:3
DTSTAMP:20260424T111311Z
URL:https://business.beatricechamber.com/events/details/ground-breaking-ceremony-good-samaritan-society-10-06-2011-5171
END:VEVENT

END:VCALENDAR
