BEGIN:VCALENDAR
VERSION:2.0
PRODID:-//ChamberMaster//Event Calendar 2.0//EN
METHOD:PUBLISH
X-PUBLISHED-TTL:P3D
REFRESH-INTERVAL:P3D
CALSCALE:GREGORIAN
BEGIN:VEVENT
DTSTART;VALUE=DATE:20100224
DTEND;VALUE=DATE:20100225
TRANSP:TRANSPARENT
X-MICROSOFT-CDO-ALLDAYEVENT:TRUE
SUMMARY:Groundwater Guardian Team
DESCRIPTION:Spring Horticulture Meetinghosted by The Beatrice Groundwater Guardian Team Wednesday\, February 24\, 20107 p.m. Extension Office Meeting RoomBeatrice Fairgrounds The program is open and free for residents interested in new flower and landscape plants from the All America Selections and select listings. Presenters for the program include Extension Educators Elizabeth Killinger and Paul Hay\, along with Beatrice Stormwater coordinator Gary Willard. For more information\, email Paul C Hay at phay1@unl.edu\, call 402-223-1284\, or visit the Gage County Nebraska Extension Website: gage.unl.edu
X-ALT-DESC;FMTTYPE=text/html:<div>Spring Horticulture Meeting</div><div>hosted by The Beatrice Groundwater Guardian Team</div><div>&nbsp\;</div><div>Wednesday\, February 24\, 2010</div><div>7 p.m.</div><div>&nbsp\;</div><div>Extension Office Meeting Room</div><div>Beatrice Fairgrounds</div><div>&nbsp\;</div><div>The program is open and free for residents interested in new flower and landscape plants from the All America Selections and select listings.</div><div>&nbsp\;</div><div>Presenters for the program include Extension Educators Elizabeth Killinger and Paul Hay\, along with Beatrice Stormwater coordinator Gary Willard.</div><div>&nbsp\;</div><div>For more information\, email Paul C Hay at <a href="mailto:phay1@unl.edu">phay1@unl.edu</a>\, call 402-223-1284\, or visit the Gage County Nebraska Extension Website: gage.unl.edu</div>
LOCATION:
UID:e.41.1647
SEQUENCE:3
DTSTAMP:20260425T165309Z
URL:https://business.beatricechamber.com/events/details/groundwater-guardian-team-02-24-2010-1647
END:VEVENT

END:VCALENDAR
